Workbook
Name OLE_LINK1: '表C-拼装费分项报价'!$A$4
Name OLE_LINK25: '表A-蒙皮分项报价'!#REF!
Name OLE_LINK25: '表B-骨架分项报价'!#REF!
Name OLE_LINK25: '表C-拼装费分项报价'!#REF!
Name OLE_LINK25: '表D-蒙皮模具分项报价'!#REF!

Sheet 汇总
A2: MXS铁制前围总成 | B2: 序号 | C2: 分项名称 | D2: 金额 （元，不含税，2位有效小数） | E2: 金额 （元，含税，2位有效小数） | F2: 备注
B3: 表A-1 | C3: 蒙皮 | D3: ='表A-蒙皮分项报价'!C6 -> 0 | E3: =D3*1.13 -> 0 | F3: 税率-13%
B4: 表B-1 | C4: 骨架 | D4: ='表B-骨架分项报价'!C6 -> 0 | E4: =D4*1.13 -> 0 | F4: 税率-13%
B5: 表C-1 | C5: 拼装 | D5: ='表C-拼装费分项报价'!E8 -> 0 | E5: =D5*1.13 -> 0 | F5: 税率-13%
B6: 表D-1 | C6: 蒙皮模具 | E6: ='表D-蒙皮模具分项报价'!C5 -> #VALUE! | F6: D1，税率-13%
B7: MXS铁制前围总成单价E1 （元，不含税，不含模具摊销） | E7: =SUM(D3:D5) -> 0 | F7: 不含税，不含模具摊销
B8: MXS铁制前围总成T1 (元，含13%税，含模具摊销） | E8: =SUM(E3:E5)+E6/2000 -> #VALUE! | F8: 含13%税，模具摊销按2000台进行摊销测算
A12: MXS铁制后围总成 | B12: 序号 | C12: 分项名称 | D12: 金额 （元，不含税，2位有效小数） | E12: 金额 （元，含税，2位有效小数） | F12: 备注
B13: 表A-2 | C13: 蒙皮 | D13: ='表A-蒙皮分项报价'!C12 -> 0 | E13: =D13*1.13 -> 0 | F13: 税率-13%
B14: 表B-2 | C14: 骨架 | D14: ='表B-骨架分项报价'!C12 -> 0 | E14: =D14*1.13 -> 0 | F14: 税率-13%
B15: 表C-2 | C15: 拼装 | D15: ='表C-拼装费分项报价'!E15 -> 0 | E15: =D15*1.13 -> 0 | F15: 税率-13%
B16: 表D-2 | C16: 蒙皮模具 | E16: ='表D-蒙皮模具分项报价'!C25 -> #VALUE! | F16: D2，税率-13%
B17: MXS铁制后围总成单价E2 （元，不含税，不含模具摊销） | E17: =SUM(D13:D15) -> 0 | F17: 不含税，不含模具摊销
B18: MXS铁制后围总成T2 (元，含13%税，含模具摊销） | E18: =SUM(E13:E15)+E16/2000 -> #VALUE! | F18: 模具摊销按2000台进行摊销测算

Sheet 表A-蒙皮分项报价
A2: 表A-1 MXS铁制前围总成蒙皮分项
A3: 分项名称 | B3: 产品重量 （KG） | C3: 公斤单价 （元/KG，不含税，不含模具摊销，2位有效小数）
A5: MXS铁制前围总成-蒙皮 | B5: 44
A6: 前围蒙皮总价A1 （元，不含税，不含模具摊销，2位有效小数） | C6: =C5*B5 -> 0
A8: 表A-2 MXS铁制后围总成蒙皮分项
A9: 分项名称 | B9: 产品重量 （KG） | C9: 公斤单价 （元/KG，不含税，不含模具摊销，2位有效小数）
A11: MXS铁制后围总成-蒙皮 | B11: 55
A12: 后围蒙皮总价A2 （元，不含税，不含模具摊销，2位有效小数） | C12: =C11*B11 -> 0

Sheet 表B-骨架分项报价
A2: 表B-1 MXS铁制前围总成骨架分项
A3: 分项名称 | B3: 产品重量 （KG） | C3: 公斤单价 （元/KG，不含税，2位有效小数）
A5: MXS铁制前围总成-骨架 | B5: 160
A6: 前围骨架总价B1 （元，不含税，2位有效小数） | C6: =C5*B5 -> 0
A8: 表B-2 MXS铁制后围总成骨架分项
A9: 分项名称 | B9: 产品重量 （KG） | C9: 公斤单价 （元/KG，不含税，2位有效小数）
A11: MXS铁制后围总成-骨架 | B11: 160
A12: 后围骨架总价B2 （元，不含税，2位有效小数） | C12: =C11*B11 -> 0

Sheet 表C-拼装费分项报价
A2: 表C-1 MXS铁制前围总成拼装分项
A3: 分项名称 | B3: 示意图 | C3: 模块 | D3: 工时数量H （小时，2位有效小数） | E3: 工时单价 (元/小时，不含税，2位有效小数）
A4: MXS铁制前围总成-拼装 | C4: 前档上护面
C5: A柱蒙皮
C6: 左轮翼板
C7: 右轮翼板
A8: 前围拼装总价C1 （元，不含税，2位有效小数） | E8: =E4*SUM(D4:D7) -> 0
A10: 表C-2 MXS铁制后围总成拼装分项
A11: 分项名称 | B11: 示意图 | C11: 模块 | D11: 工时数量H （小时，2位有效小数） | E11: 工时单价 (元/小时，不含税，2位有效小数）
A12: MXS铁制前围总成-拼装 | C12: 后围护面上片
C13: 后围护面
C14: 后保险杠
A15: 后围拼装总价C2 （元，不含税，2位有效小数） | E15: =E12*SUM(D12:D14) -> 0

Sheet 表D-蒙皮模具分项报价
A2: 表D-1 MXS铁制前围总成蒙皮模具分项
A3: 分项名称 | B3: 要求 | C3: 模具总价D1 （元，含13%税，2位有效小数）
A5: MXS铁制前围总成-蒙皮模具 | B5: ①除模具本体外，包含相关总成检具2套 ②按照前围总模具费2000台分摊测算 ③前围总成的模具拆分由厂商自行进行二次设计，并填入《表D-1-拆分》中 | C5: =SUM(H9:H20) -> #VALUE!
A6: 表D-1-MXS铁制前围总成蒙皮模具拆分-可参照《MXS微循环公交新造型铁制冲压蒙皮技术要求_20260930-开发清单及开发方案要求》进行拆解
A7: 拆分细项名称 | B7: 模具类型 | C7: 模具材料 | D7: 模具重量（吨，2位有效小数） | E7: 模具寿命 (不低于3万次) | F7: 开发周期 | G7: 模具单价 （元/吨，含13%税,2位有效小数） | H7: 拆分细项价格小计 （元，含13%税，2位有效小数）
A9: … | B9: … | C9: … | D9: … | E9: … | F9: … | G9: … | H9: =G9*D9 -> #VALUE!
A10: … | B10: … | C10: … | D10: … | E10: … | F10: … | G10: … | H10: =G10*D10 -> #VALUE!
A11: … | B11: … | C11: … | D11: … | E11: … | F11: … | G11: … | H11: =G11*D11 -> #VALUE!
A12: … | B12: … | C12: … | D12: … | E12: … | F12: … | G12: … | H12: =G12*D12 -> #VALUE!
A13: … | B13: … | C13: … | D13: … | E13: … | F13: … | G13: … | H13: =G13*D13 -> #VALUE!
A14: … | B14: … | C14: … | D14: … | E14: … | F14: … | G14: … | H14: =G14*D14 -> #VALUE!
A15: … | B15: … | C15: … | D15: … | E15: … | F15: … | G15: … | H15: =G15*D15 -> #VALUE!
A16: … | B16: … | C16: … | D16: … | E16: … | F16: … | G16: … | H16: =G16*D16 -> #VALUE!
A17: … | B17: … | C17: … | D17: … | E17: … | F17: … | G17: … | H17: =G17*D17 -> #VALUE!
A18: … | B18: … | C18: … | D18: … | E18: … | F18: … | G18: … | H18: =G18*D18 -> #VALUE!
A19: … | B19: … | C19: … | D19: … | E19: … | F19: … | G19: … | H19: =G19*D19 -> #VALUE!
A20: 前围总成检具 | C20: 数量2套 | H20: （填写检具2套的成套总额）
A22: 表D-2 MXS铁制后围总成蒙皮模具分项
A23: 分项名称 | B23: 要求 | C23: 模具总价D2 （元，含13%税，2位有效小数）
A25: MXS铁制后围总成-蒙皮模具 | B25: ①除模具本体外，包含相关总成检具2套 ②按照后围总模具费2000台分摊测算 ③后围总成的模具拆分由厂商自行进行二次设计，并填入《表D-2-拆分》中 | C25: =SUM(H29:H40) -> #VALUE!
A26: 表D-2-MXS铁制后围总成蒙皮模具拆分--可参照《MXS微循环公交新造型铁制冲压蒙皮技术要求_20260930-开发清单及开发方案要求》进行拆解
A27: 拆分细项名称 | B27: 模具类型 | C27: 模具材料 | D27: 模具重量（吨，2位有效小数） | E27: 模具寿命 (不低于3万次) | F27: 开发周期 | G27: 模具单价 （元/吨，含13%税,2位有效小数） | H27: 拆分细项价格小计 （元，含13%税，2位有效小数）
A29: … | B29: … | C29: … | D29: … | E29: … | F29: … | G29: … | H29: =G29*D29 -> #VALUE!
A30: … | B30: … | C30: … | D30: … | E30: … | F30: … | G30: … | H30: =G30*D30 -> #VALUE!
A31: … | B31: … | C31: … | D31: … | E31: … | F31: … | G31: … | H31: =G31*D31 -> #VALUE!
A32: … | B32: … | C32: … | D32: … | E32: … | F32: … | G32: … | H32: =G32*D32 -> #VALUE!
A33: … | B33: … | C33: … | D33: … | E33: … | F33: … | G33: … | H33: =G33*D33 -> #VALUE!
A34: … | B34: … | C34: … | D34: … | E34: … | F34: … | G34: … | H34: =G34*D34 -> #VALUE!
A35: … | B35: … | C35: … | D35: … | E35: … | F35: … | G35: … | H35: =G35*D35 -> #VALUE!
A36: … | B36: … | C36: … | D36: … | E36: … | F36: … | G36: … | H36: =G36*D36 -> #VALUE!
A37: … | B37: … | C37: … | D37: … | E37: … | F37: … | G37: … | H37: =G37*D37 -> #VALUE!
A38: … | B38: … | C38: … | D38: … | E38: … | F38: … | G38: … | H38: =G38*D38 -> #VALUE!
A39: … | B39: … | C39: … | D39: … | E39: … | F39: … | G39: … | H39: =G39*D39 -> #VALUE!
A40: 后围总成检具 | C40: 数量2套 | H40: （填写检具2套的成套总额）
